BEGIN:VCALENDAR
VERSION:2.0
PRODID:-//Roch Castle - ECPv6.15.11//NONSGML v1.0//EN
CALSCALE:GREGORIAN
METHOD:PUBLISH
X-WR-CALNAME:Roch Castle
X-ORIGINAL-URL:https://rochcastle.com
X-WR-CALDESC:Events for Roch Castle
REFRESH-INTERVAL;VALUE=DURATION:PT1H
X-Robots-Tag:noindex
X-PUBLISHED-TTL:PT1H
BEGIN:VTIMEZONE
TZID:UTC
BEGIN:STANDARD
TZOFFSETFROM:+0000
TZOFFSETTO:+0000
TZNAME:UTC
DTSTART:20250101T000000
END:STANDARD
END:VTIMEZONE
BEGIN:VEVENT
DTSTART;TZID=UTC:20260516T140000
DTEND;TZID=UTC:20260516T163000
DTSTAMP:20260421T091148
CREATED:20260116T150725Z
LAST-MODIFIED:20260123T132152Z
UID:10000007-1778940000-1778949000@rochcastle.com
SUMMARY:Afternoon Tea at Roch Castle
DESCRIPTION:
URL:https://rochcastle.com/events/afternoon-tea-at-roch-castle/2026-05-16/
LOCATION:Roch Castle\, St Davids\, Pembrokeshire\, SA62 6AQ\, United Kingdom
ATTACH;FMTTYPE=image/jpeg:https://rochcastle.com/wp-content/uploads/sites/3/2026/01/Afternoon-Tea-at-Roch-Castle-01.jpg
ORGANIZER;CN="Roch Castle":MAILTO:stay@rochcastle.com
END:VEVENT
BEGIN:VEVENT
DTSTART;TZID=UTC:20260620T140000
DTEND;TZID=UTC:20260620T163000
DTSTAMP:20260421T091148
CREATED:20260116T150725Z
LAST-MODIFIED:20260123T132152Z
UID:10000009-1781964000-1781973000@rochcastle.com
SUMMARY:Afternoon Tea at Roch Castle
DESCRIPTION:
URL:https://rochcastle.com/events/afternoon-tea-at-roch-castle/2026-06-20/
LOCATION:Roch Castle\, St Davids\, Pembrokeshire\, SA62 6AQ\, United Kingdom
ATTACH;FMTTYPE=image/jpeg:https://rochcastle.com/wp-content/uploads/sites/3/2026/01/Afternoon-Tea-at-Roch-Castle-01.jpg
ORGANIZER;CN="Roch Castle":MAILTO:stay@rochcastle.com
END:VEVENT
BEGIN:VEVENT
DTSTART;TZID=UTC:20260718T140000
DTEND;TZID=UTC:20260718T163000
DTSTAMP:20260421T091148
CREATED:20260116T150725Z
LAST-MODIFIED:20260123T132152Z
UID:10000010-1784383200-1784392200@rochcastle.com
SUMMARY:Afternoon Tea at Roch Castle
DESCRIPTION:
URL:https://rochcastle.com/events/afternoon-tea-at-roch-castle/2026-07-18/
LOCATION:Roch Castle\, St Davids\, Pembrokeshire\, SA62 6AQ\, United Kingdom
ATTACH;FMTTYPE=image/jpeg:https://rochcastle.com/wp-content/uploads/sites/3/2026/01/Afternoon-Tea-at-Roch-Castle-01.jpg
ORGANIZER;CN="Roch Castle":MAILTO:stay@rochcastle.com
END:VEVENT
BEGIN:VEVENT
DTSTART;TZID=UTC:20260822T140000
DTEND;TZID=UTC:20260822T163000
DTSTAMP:20260421T091148
CREATED:20260116T150725Z
LAST-MODIFIED:20260123T132152Z
UID:10000011-1787407200-1787416200@rochcastle.com
SUMMARY:Afternoon Tea at Roch Castle
DESCRIPTION:
URL:https://rochcastle.com/events/afternoon-tea-at-roch-castle/2026-08-22/
LOCATION:Roch Castle\, St Davids\, Pembrokeshire\, SA62 6AQ\, United Kingdom
ATTACH;FMTTYPE=image/jpeg:https://rochcastle.com/wp-content/uploads/sites/3/2026/01/Afternoon-Tea-at-Roch-Castle-01.jpg
ORGANIZER;CN="Roch Castle":MAILTO:stay@rochcastle.com
END:VEVENT
BEGIN:VEVENT
DTSTART;TZID=UTC:20260919T140000
DTEND;TZID=UTC:20260919T163000
DTSTAMP:20260421T091148
CREATED:20260116T150725Z
LAST-MODIFIED:20260123T132152Z
UID:10000012-1789826400-1789835400@rochcastle.com
SUMMARY:Afternoon Tea at Roch Castle
DESCRIPTION:
URL:https://rochcastle.com/events/afternoon-tea-at-roch-castle/2026-09-19/
LOCATION:Roch Castle\, St Davids\, Pembrokeshire\, SA62 6AQ\, United Kingdom
ATTACH;FMTTYPE=image/jpeg:https://rochcastle.com/wp-content/uploads/sites/3/2026/01/Afternoon-Tea-at-Roch-Castle-01.jpg
ORGANIZER;CN="Roch Castle":MAILTO:stay@rochcastle.com
END:VEVENT
BEGIN:VEVENT
DTSTART;TZID=UTC:20261017T140000
DTEND;TZID=UTC:20261017T163000
DTSTAMP:20260421T091148
CREATED:20260116T150725Z
LAST-MODIFIED:20260123T132152Z
UID:10000013-1792245600-1792254600@rochcastle.com
SUMMARY:Afternoon Tea at Roch Castle
DESCRIPTION:
URL:https://rochcastle.com/events/afternoon-tea-at-roch-castle/2026-10-17/
LOCATION:Roch Castle\, St Davids\, Pembrokeshire\, SA62 6AQ\, United Kingdom
ATTACH;FMTTYPE=image/jpeg:https://rochcastle.com/wp-content/uploads/sites/3/2026/01/Afternoon-Tea-at-Roch-Castle-01.jpg
ORGANIZER;CN="Roch Castle":MAILTO:stay@rochcastle.com
END:VEVENT
BEGIN:VEVENT
DTSTART;TZID=UTC:20261114T140000
DTEND;TZID=UTC:20261114T163000
DTSTAMP:20260421T091148
CREATED:20260116T150725Z
LAST-MODIFIED:20260123T132152Z
UID:10000014-1794664800-1794673800@rochcastle.com
SUMMARY:Afternoon Tea at Roch Castle
DESCRIPTION:
URL:https://rochcastle.com/events/afternoon-tea-at-roch-castle/2026-11-14/
LOCATION:Roch Castle\, St Davids\, Pembrokeshire\, SA62 6AQ\, United Kingdom
ATTACH;FMTTYPE=image/jpeg:https://rochcastle.com/wp-content/uploads/sites/3/2026/01/Afternoon-Tea-at-Roch-Castle-01.jpg
ORGANIZER;CN="Roch Castle":MAILTO:stay@rochcastle.com
END:VEVENT
BEGIN:VEVENT
DTSTART;TZID=UTC:20261219T140000
DTEND;TZID=UTC:20261219T163000
DTSTAMP:20260421T091148
CREATED:20260116T152352Z
LAST-MODIFIED:20260123T132254Z
UID:10000016-1797688800-1797697800@rochcastle.com
SUMMARY:Festive Afternoon Tea at Roch Castle
DESCRIPTION:
URL:https://rochcastle.com/events/festive-afternoon-tea-at-roch-castle/
LOCATION:Roch Castle\, St Davids\, Pembrokeshire\, SA62 6AQ\, United Kingdom
ATTACH;FMTTYPE=image/jpeg:https://rochcastle.com/wp-content/uploads/sites/3/2025/11/RC-Events-14-Dec-Festive-Afternoon-Tea.jpg
ORGANIZER;CN="Roch Castle":MAILTO:stay@rochcastle.com
END:VEVENT
END:VCALENDAR